BEGIN:VCALENDAR
VERSION:2.0
PRODID:-//Eléonore de Lardemelle - ECPv6.15.20//NONSGML v1.0//EN
CALSCALE:GREGORIAN
METHOD:PUBLISH
X-WR-CALNAME:Eléonore de Lardemelle
X-ORIGINAL-URL:https://www.eleonoredelardemelle.com
X-WR-CALDESC:Évènements pour Eléonore de Lardemelle
REFRESH-INTERVAL;VALUE=DURATION:PT1H
X-Robots-Tag:noindex
X-PUBLISHED-TTL:PT1H
BEGIN:VTIMEZONE
TZID:Europe/Paris
BEGIN:DAYLIGHT
TZOFFSETFROM:+0100
TZOFFSETTO:+0200
TZNAME:CEST
DTSTART:20250330T010000
END:DAYLIGHT
BEGIN:STANDARD
TZOFFSETFROM:+0200
TZOFFSETTO:+0100
TZNAME:CET
DTSTART:20251026T010000
END:STANDARD
BEGIN:DAYLIGHT
TZOFFSETFROM:+0100
TZOFFSETTO:+0200
TZNAME:CEST
DTSTART:20260329T010000
END:DAYLIGHT
BEGIN:STANDARD
TZOFFSETFROM:+0200
TZOFFSETTO:+0100
TZNAME:CET
DTSTART:20261025T010000
END:STANDARD
BEGIN:DAYLIGHT
TZOFFSETFROM:+0100
TZOFFSETTO:+0200
TZNAME:CEST
DTSTART:20270328T010000
END:DAYLIGHT
BEGIN:STANDARD
TZOFFSETFROM:+0200
TZOFFSETTO:+0100
TZNAME:CET
DTSTART:20271031T010000
END:STANDARD
END:VTIMEZONE
BEGIN:VEVENT
DTSTART;TZID=Europe/Paris:20260628T080000
DTEND;TZID=Europe/Paris:20260629T170000
DTSTAMP:20260419T165340
CREATED:20250625T143021Z
LAST-MODIFIED:20260411T141915Z
UID:5154-1782633600-1782752400@www.eleonoredelardemelle.com
SUMMARY:2 jours Chamaniques sur la Côte Atlantique
DESCRIPTION:2 Jours Chamanique en Bivouac\nDimanche 28 et Lundi 29 Juin 2026\n10h/17h – 300€ – Sur la Côte Atlantique (l’itinéraire est encore en construction) \nInscription : me faire un petit message pour convenir d’un rdv tel au 0659228182 \nCes 2 jours sont aussi cool qu’intensif\, aussi ordinaire qu’extra-ordinaire\, aussi « coccoonning » que sportif…aussi rassurant qu’égnigmatique… C’est un moment où tu vas faire face à toutes tes facettes\, c’est ce que j’appelle « se compléter ». Plus tu connais de quoi tout ton jeu est constitué (même les facettes qui ne sont pas très reluisantes)\, plus tu es autonome vers un mieux-être et plus tu gagnes en maturité émotionnelle. \nC’est un séjour qui ne règle pas tous tes soucis\, mais qui te remet à ta place\, dans ton alignement et au service de ton bien-être. On ne sait pas exactement ce qu’on va y faire puisque tout dépendra des énergies du moment\, on ne sait pas non plus comment tout fonctionnera\, mais c’est justement pour ça que ces journées vont t’aider à bouger tes lignes et oser à voir plus loin que ton problème. \nCes 2 jours seront rythmés par des marches silencieuses\, des pratiques corporelles\, des soins énergétiques individuels et des rituels de groupes. Nous portons que le repas du jour et dormirons soit à la belle étoile\, soit sous tente dans le camping Municipal de Notre Dame de Mont. \n 
URL:https://www.eleonoredelardemelle.com/evenement/we-chamanique-en-bivouac/
LOCATION:Côte Atlantique\, Av. Abbé Thibaud\, Notre dame de Mont\, 85690\, France
CATEGORIES:Séjours au Féminin,Séjours en bivouac,Stage
ATTACH;FMTTYPE=image/jpeg:https://www.eleonoredelardemelle.com/wp-content/uploads/2025/06/Evenements-13.jpg
ORGANIZER;CN="Eleonore de Lardemelle":MAILTO:eleonoredelardemelle@gmail.com
END:VEVENT
END:VCALENDAR