BEGIN:VCALENDAR
VERSION:2.0
PRODID:-//Eléonore de Lardemelle - ECPv6.15.20//NONSGML v1.0//EN
CALSCALE:GREGORIAN
METHOD:PUBLISH
X-WR-CALNAME:Eléonore de Lardemelle
X-ORIGINAL-URL:https://www.eleonoredelardemelle.com
X-WR-CALDESC:Évènements pour Eléonore de Lardemelle
REFRESH-INTERVAL;VALUE=DURATION:PT1H
X-Robots-Tag:noindex
X-PUBLISHED-TTL:PT1H
BEGIN:VTIMEZONE
TZID:Europe/Paris
BEGIN:DAYLIGHT
TZOFFSETFROM:+0100
TZOFFSETTO:+0200
TZNAME:CEST
DTSTART:20260329T010000
END:DAYLIGHT
BEGIN:STANDARD
TZOFFSETFROM:+0200
TZOFFSETTO:+0100
TZNAME:CET
DTSTART:20261025T010000
END:STANDARD
BEGIN:DAYLIGHT
TZOFFSETFROM:+0100
TZOFFSETTO:+0200
TZNAME:CEST
DTSTART:20270328T010000
END:DAYLIGHT
BEGIN:STANDARD
TZOFFSETFROM:+0200
TZOFFSETTO:+0100
TZNAME:CET
DTSTART:20271031T010000
END:STANDARD
BEGIN:DAYLIGHT
TZOFFSETFROM:+0100
TZOFFSETTO:+0200
TZNAME:CEST
DTSTART:20280326T010000
END:DAYLIGHT
BEGIN:STANDARD
TZOFFSETFROM:+0200
TZOFFSETTO:+0100
TZNAME:CET
DTSTART:20281029T010000
END:STANDARD
END:VTIMEZONE
BEGIN:VEVENT
DTSTART;TZID=Europe/Paris:20270419T080000
DTEND;TZID=Europe/Paris:20270502T170000
DTSTAMP:20260420T232050
CREATED:20250606T153218Z
LAST-MODIFIED:20260401T161334Z
UID:5049-1808121600-1809277200@www.eleonoredelardemelle.com
SUMMARY:Voyage Initiatique au Pays des Chamans (désert de Gobi)
DESCRIPTION:😍 L’Appel du Gobi 😍\n🎁 Bivouac Itinérant dans le désert de Mongolie ou L’Expérience d’une aventure au Coeur de Soi\n🤗 Avec l’Agence Les Yachs d’Irchim\n😁 Séjour Mixte / Ouvert à tous\n✅ du courant Avril/Mai 2027 Inscriptions Ouvertes \n> 15 Jours de bivouac au du désert de Gobi dans le sud de la Mongolie\n> 7 Personnes _ 2530€ (+ billet d’avion)\n> À quoi correspond ce prix ?\n1/ 930€ pour mon intervention (les séances en visio de préparation de groupe avant\, 2 rdv individuels avant ou après le séjour\, une place sur le Club Chelou et tous les soins que vous allez recevoir durant le séjour)\n2/ 1600€ pour l’équipe sur place (les repas\, la dernière nuit à l’hôtel\, l’essence\, les 2 chauffeurs\, la cuisinière et Sukee Saraa notre interprète )\n> Une liste du matériel vous est envoyé à votre inscription (il est possible de vous faire prêter du matériel par moi-même ou par d’anciens stagiaires) \n\n			\n				\n			\n			\n				\n			\n			\n				\n			\n			\n				\n			\n			\n				\n			\n			\n				\n			\n		\n\n✅ En Résumé : \nTout le long de notre parcours\, nous nous laisserons immerger par la nature environnante. Ce séjour est une expérience extra-ordinaire. Place à l’instant présent ! L’idée est surtout de se baigner dans ces immensités naturelles et d’aller toucher notre puissance face à notre « petitesse ». Nous nous servirons de toutes nos émotions (aidés par les soins que je vous donnerais sur place) pour aller bouger les lignes de notre vie. \nAu Menu : Marches Silencieuses\, Méditations\, Gym Douce et Mouvements dans le Corps\, Canalisations\, Rituels Initiatiques\, Soins Energétiques et Chamaniques (en groupe et en individuel)\, Rencontres de Chamans… \nCe séjour est une aventure intérieur et extérieur. Sukee Saraa et le chauffeur principal connaissent le coin où nous allons comme leur poche . Nous alternerons la marche et les kilomètres en camion de point en point. Chaque jour\, nous aidons l’équipe à monter et démonter le campement. Nous dormions sous tente à 2 ou 3 ou à la belle étoile. La toilette quotidienne sera sommaire et les WC seront la nature qui nous entoure 😊. La nuit tombe assez tôt là-bas\, chaque soirée sera propice à des soins sur mesure. Nous utiliserons toute la nature environnante pour trouver notre propre nature loin de tous nos repères et codes sociétales. \n✅ Pourquoi faire ce séjour ? \n> Renouer avec la simplicité de l’existence\n> La possibilité de se concentrer uniquement sur nos besoins intérieurs\n> Laisser émerger un espace de soin et de libération pour les blessures anciennes et les blocages énergétiques\n> Entrer en contact avec son essence profonde\n> Faire face à ses propres limites et découvrir de nouvelles ressources\n> Un sentiment d’accomplissement personnel\n> Une connexion profonde avec la nature et l’immensité du monde\n> Ouvrir un nouveau chapitre dans votre vie spirituelle\n> Recevoir des soins qui touchent l’âme ( de ma part tout au long du séjour et de la part des 2 chamans que nous rencontrerons)\n> Tisser des liens profonds et durables basés sur la vulnérabilité\, l’authenticité et l’aventure collective\n> Ressentir et vivre la beauté brute du monde \n✅ Quels sont les points forts de ce séjour ? \n1. Déconnexion totale et immersion dans l’essentiel\nCe séjour est une retraite pour l’âme. L’isolement dans le désert offre un espace pour se libérer des distractions. C’est une chance de redécouvrir ce qui est vraiment important pour soi\, sans les perturbations externes. \n2. Guérison et transformation intérieure\nLe désert de Gobi est un lieu de purification à haut taux vibratoire. La confrontation à un environnement « extrême » (on est pas non plus dans un truc de survivaliste hein 😊) catalyse des guérisons profondes\, qu’elles soient émotionnelles\, physiques ou spirituelles.\nC’est un processus de transformation intérieure au fur et à mesure du chemin que nous allons parcourir. Grâce à des rituels\, des soins énergétiques\, des méditations et des moments de silence profond\, vous allez faire face à vos peurs en douceur et émerger plus forts et plus alignés avec votre véritable essence. \n3. Connaissance de soi et développement personnel\nLe désert\, dans son immensité\, est un lieu symbolique où l’on peut se confronter à ses doutes\, et ses blocages internes. Chaque étape du voyage devient une métaphore du processus intérieur : marcher dans le sable\, s’adapter aux conditions du désert\, affronter ses propres limites et découvrir des ressources cachées en soi.\nCette aventure permet de sortir de sa zone de confort\, de repousser ses limites et de découvrir des forces insoupçonnées. Le défi physique et mental de l’environnement extrême aide à renforcer la résilience\, l’estime de soi\, et à nourrir un sentiment d’accomplissement personnel. \n4. Une expérience unique et transformative\nCe voyage Initiatique est l’occasion de vivre une aventure hors du commun\, de sortir des sentiers battus et de se reconnecter à des expériences authentiques et simples. Chaque moment devient une opportunité de découvrir quelque chose de nouveau sur soi.\nLe désert de Gobi offre une connexion rare à une nature brute et infinie. Le sentiment d’être connecté à quelque chose de plus grand\, d’être immergé dans la grandeur de l’univers\, change profondément la perception de soi et du monde. \n5. Recevoir des pratiques ancestrales et spirituelles\nLes soins traditionnels que vous allez recevoir durant les séjours (nous rencontrons sur notre chemin 2 chamans) vont vous aider à vous relier aux énergies ancestrales.\nJe ne suis pas moi-même chamane\, mais j’ai depuis 10 ans développer des techniques de soins puissants qui renforce votre capacité à être humain. Je vous accompagne tout au long du séjour avec des soins énergétiques\, des rituels de purification\, de à la guidance spirituelle pour vous soutenir dans votre propre processus de guérison. Le désert devient ainsi un cadre parfait pour recevoir des soins qui vont au-delà de la simple relaxation physique\, en touchant l’âme elle-même. \n6. Vivre un rite de passage\nCe voyage est initiatique\, c’est un rite de passage\, un moment crucial où l’on franchit une étape importante dans sa vie\, que ce soit pour surmonter un événement difficile\, pour célébrer une nouvelle phase de vie\, ou pour simplement marquer un changement de perspective. Le désert devient alors un lieu symbolique de transition\, où vous pouvez renaître et faire le point sur son parcours de vie. \n9. Célébrer la résilience humaine\nLe désert de Gobi met chaque participant face à des défis physiques\, émotionnels et psychologiques. Ce séjour va vous aider à tester votre résilience\, à repousser vos limites et à découvrir une nouvelle force intérieure. Cela peut être un moyen puissant de renforcer la confiance en soi et de prouver que vous êtes capables de surmonter même les épreuves les plus difficiles. \n✅ Que dois-je faire pour m’inscrire ?\nSi tu es prêt à t’engager\, il suffit de me passer un petit coup de fil au : 06 59 22 81 82 \n🚩 Une fois le groupe constitué\, c’est à dire qu’une fois que les 7 places sont prises\, c’est l’achat de ton billet d’avion qui t’engage. \n🚩 Chacun prendra son billet d’avion de son côté\, même si nous nous coordonnerons pour être dans le même avion. Les vols sont plutôt tôt le matin depuis Paris avec une escale à Istanbul. Nous nous coordonnerons également suivant d’où chacun partira pour voyager ensemble jusque Paris si possible. \n🚩 Le paiement à l’agence de 1600€ : un mois avant le séjour\, 200€ seront à verser à l’agence locale. Le reste (1600€-200€=1400€) sera à payer en liquide à notre arrivée.\nMon paiement de 930€ : les 930€ doivent être réglés avant notre départ (il est possible d’échelonner les paiements) \n🚩 En plus du prix du séjour\, il faut prévoir :\n_ environ 800€ pour l’aller et retour en avion (nous passons par Turkish Airline)\n_ un aller et retour entre chez vous et Paris Roissy Charles de Gaulle (parfois il faut prévoir une nuit d’hôtel suivant nos horaires et départ et d’arrivée)\n_ 30€ pour une visite chez un chaman\n_ de quoi dîner pour le dernier repas\, faire vos achats personnels\, environ 50€ de pourboire pour l’équipe de Sukee Sara
URL:https://www.eleonoredelardemelle.com/evenement/5049/
LOCATION:Oulan-Bator\, 6 khoroo\, Ulaanbaatar\, 14201\,\, Mongolia
CATEGORIES:Séjours en bivouac,Voyage initiatique à l'Etranger
ATTACH;FMTTYPE=image/jpeg:https://www.eleonoredelardemelle.com/wp-content/uploads/2025/06/Evenements-13-2.jpg
ORGANIZER;CN="Eleonore de Lardemelle":MAILTO:eleonoredelardemelle@gmail.com
END:VEVENT
END:VCALENDAR